BEGIN:VCALENDAR
VERSION:2.0
PRODID:-//Sabre//Sabre VObject 3.5.3//EN
CALSCALE:GREGORIAN
BEGIN:VTIMEZONE
TZID:Europe/London
BEGIN:STANDARD
TZNAME:GMT
DTSTART:19701025T020000
RRULE:FREQ=YEARLY;BYMONTH=10;BYDAY=-1SU
TZOFFSETFROM:+0100
TZOFFSETTO:+0000
END:STANDARD
BEGIN:DAYLIGHT
TZNAME:BST
DTSTART:19700329T010000
RRULE:FREQ=YEARLY;BYMONTH=3;BYDAY=-1SU
TZOFFSETFROM:+0000
TZOFFSETTO:+0100
END:DAYLIGHT
END:VTIMEZONE
BEGIN:VEVENT
UID:event_156771@southchilternchoralsociety.org.uk
DTSTART;TZID=Europe/London:20221010T193000
DTEND;TZID=Europe/London:20221010T213000
SUMMARY:Rehearsal
DESCRIPTION:For full event details\, visit: https://www.southchilternchoral
 society.org.uk/dbpage.php?pg=view&dbase=events&id=156771
LOCATION:Caversham Heights Methodist Church\, 74 Highmoor Road\, Caversham\
 , RG4 7BG
URL:https://www.southchilternchoralsociety.org.uk/dbpage.php?pg=view&dbase=
 events&id=156771
END:VEVENT
END:VCALENDAR
